BEGIN:VCALENDAR
VERSION:2.0
PRODID:icalendar-ruby
CALSCALE:GREGORIAN
METHOD:PUBLISH
BEGIN:VEVENT
DTSTAMP:20260425T033210Z
UID:7-283640@loudonvilleumc.com
DTSTART:20261011T143000Z
DTEND:20261011T153000Z
CLASS:PUBLIC
CREATED:20260424T224152
DESCRIPTION:
LAST-MODIFIED:20260424T224152
LOCATION:
SUMMARY:Sunday Worship
URL;VALUE=URI:https://www.loudonvilleumc.com/events/sunday-worship/2026-10-
 11
END:VEVENT
END:VCALENDAR
