BEGIN:VCALENDAR
VERSION:2.0
PRODID:icalendar-ruby
CALSCALE:GREGORIAN
METHOD:PUBLISH
BEGIN:VEVENT
DTSTAMP:20260424T204859Z
UID:7-283180@loudonvilleumc.com
DTSTART:20260913T143000Z
DTEND:20260913T153000Z
CLASS:PUBLIC
CREATED:20260424T141638
DESCRIPTION:
LAST-MODIFIED:20260424T141638
LOCATION:
SUMMARY:Sunday Worship
URL;VALUE=URI:https://www.loudonvilleumc.com/events/sunday-worship/2026-09-
 13
END:VEVENT
END:VCALENDAR
