BEGIN:VCALENDAR
VERSION:2.0
PRODID:icalendar-ruby
CALSCALE:GREGORIAN
METHOD:PUBLISH
BEGIN:VEVENT
DTSTAMP:20260424T155657Z
UID:7-283025@loudonvilleumc.com
DTSTART:20260823T143000Z
DTEND:20260823T153000Z
CLASS:PUBLIC
CREATED:20260424T113046
DESCRIPTION:
LAST-MODIFIED:20260424T113046
LOCATION:
SUMMARY:Sunday Worship
URL;VALUE=URI:https://www.loudonvilleumc.com/events/sunday-worship/2026-08-
 23
END:VEVENT
END:VCALENDAR
