BEGIN:VCALENDAR
VERSION:2.0
PRODID:icalendar-ruby
CALSCALE:GREGORIAN
METHOD:PUBLISH
BEGIN:VEVENT
DTSTAMP:20260424T103732Z
UID:7-282718@loudonvilleumc.com
DTSTART:20260802T143000Z
DTEND:20260802T153000Z
CLASS:PUBLIC
CREATED:20260423T230956
DESCRIPTION:
LAST-MODIFIED:20260423T230956
LOCATION:
SUMMARY:Sunday Worship
URL;VALUE=URI:https://www.loudonvilleumc.com/events/sunday-worship/2026-08-
 02
END:VEVENT
END:VCALENDAR
