BEGIN:VCALENDAR
VERSION:2.0
PRODID:icalendar-ruby
CALSCALE:GREGORIAN
METHOD:PUBLISH
BEGIN:VEVENT
DTSTAMP:20260424T015447Z
UID:7-282561@loudonvilleumc.com
DTSTART:20260628T143000Z
DTEND:20260628T153000Z
CLASS:PUBLIC
CREATED:20260423T201523
DESCRIPTION:
LAST-MODIFIED:20260423T201523
LOCATION:
SUMMARY:Sunday Worship
URL;VALUE=URI:https://www.loudonvilleumc.com/events/sunday-worship/2026-06-
 28
END:VEVENT
END:VCALENDAR
