BEGIN:VCALENDAR
VERSION:2.0
PRODID:icalendar-ruby
CALSCALE:GREGORIAN
METHOD:PUBLISH
BEGIN:VEVENT
DTSTAMP:20260425T014524Z
UID:6-283412@loudonvilleumc.com
DTSTART:20261011T134500Z
DTEND:20261011T141500Z
CLASS:PUBLIC
CREATED:20260424T195212
DESCRIPTION:
LAST-MODIFIED:20260424T195212
LOCATION:
SUMMARY:Children and Youth Sunday school
URL;VALUE=URI:https://www.loudonvilleumc.com/events/children-and-youth-sund
 ay-school/2026-10-11
END:VEVENT
END:VCALENDAR
