BEGIN:VCALENDAR
VERSION:2.0
PRODID:icalendar-ruby
CALSCALE:GREGORIAN
METHOD:PUBLISH
BEGIN:VEVENT
DTSTAMP:20260424T222609Z
UID:6-283258@loudonvilleumc.com
DTSTART:20260927T134500Z
DTEND:20260927T141500Z
CLASS:PUBLIC
CREATED:20260424T170423
DESCRIPTION:
LAST-MODIFIED:20260424T170423
LOCATION:
SUMMARY:Children and Youth Sunday school
URL;VALUE=URI:https://www.loudonvilleumc.com/events/children-and-youth-sund
 ay-school/2026-09-27
END:VEVENT
END:VCALENDAR
