BEGIN:VCALENDAR
VERSION:2.0
PRODID:icalendar-ruby
CALSCALE:GREGORIAN
METHOD:PUBLISH
BEGIN:VEVENT
DTSTAMP:20260424T204025Z
UID:6-283105@loudonvilleumc.com
DTSTART:20260920T134500Z
DTEND:20260920T141500Z
CLASS:PUBLIC
CREATED:20260424T141638
DESCRIPTION:
LAST-MODIFIED:20260424T141638
LOCATION:
SUMMARY:Children and Youth Sunday school
URL;VALUE=URI:https://www.loudonvilleumc.com/events/children-and-youth-sund
 ay-school/2026-09-20
END:VEVENT
END:VCALENDAR
