BEGIN:VCALENDAR
VERSION:2.0
PRODID:icalendar-ruby
CALSCALE:GREGORIAN
METHOD:PUBLISH
BEGIN:VEVENT
DTSTAMP:20260424T185853Z
UID:6-283104@loudonvilleumc.com
DTSTART:20260913T134500Z
DTEND:20260913T141500Z
CLASS:PUBLIC
CREATED:20260424T141638
DESCRIPTION:
LAST-MODIFIED:20260424T141638
LOCATION:
SUMMARY:Children and Youth Sunday school
URL;VALUE=URI:https://www.loudonvilleumc.com/events/children-and-youth-sund
 ay-school/2026-09-13
END:VEVENT
END:VCALENDAR
