BEGIN:VCALENDAR
VERSION:2.0
PRODID:icalendar-ruby
CALSCALE:GREGORIAN
METHOD:PUBLISH
BEGIN:VEVENT
DTSTAMP:20260424T154810Z
UID:6-282950@loudonvilleumc.com
DTSTART:20260830T134500Z
DTEND:20260830T141500Z
CLASS:PUBLIC
CREATED:20260424T113046
DESCRIPTION:
LAST-MODIFIED:20260424T113046
LOCATION:
SUMMARY:Children and Youth Sunday school
URL;VALUE=URI:https://www.loudonvilleumc.com/events/children-and-youth-sund
 ay-school/2026-08-30
END:VEVENT
END:VCALENDAR
