BEGIN:VCALENDAR
VERSION:2.0
PRODID:icalendar-ruby
CALSCALE:GREGORIAN
METHOD:PUBLISH
BEGIN:VEVENT
DTSTAMP:20260424T140838Z
UID:6-282797@loudonvilleumc.com
DTSTART:20260823T134500Z
DTEND:20260823T141500Z
CLASS:PUBLIC
CREATED:20260424T083801
DESCRIPTION:
LAST-MODIFIED:20260424T083801
LOCATION:
SUMMARY:Children and Youth Sunday school
URL;VALUE=URI:https://www.loudonvilleumc.com/events/children-and-youth-sund
 ay-school/2026-08-23
END:VEVENT
END:VCALENDAR
