BEGIN:VCALENDAR
VERSION:2.0
PRODID:icalendar-ruby
CALSCALE:GREGORIAN
METHOD:PUBLISH
BEGIN:VEVENT
DTSTAMP:20260424T123102Z
UID:6-282644@loudonvilleumc.com
DTSTART:20260816T134500Z
DTEND:20260816T141500Z
CLASS:PUBLIC
CREATED:20260423T230956
DESCRIPTION:
LAST-MODIFIED:20260423T230956
LOCATION:
SUMMARY:Children and Youth Sunday school
URL;VALUE=URI:https://www.loudonvilleumc.com/events/children-and-youth-sund
 ay-school/2026-08-16
END:VEVENT
END:VCALENDAR
