BEGIN:VCALENDAR
VERSION:2.0
PRODID:icalendar-ruby
CALSCALE:GREGORIAN
METHOD:PUBLISH
BEGIN:VEVENT
DTSTAMP:20260424T105631Z
UID:6-282643@loudonvilleumc.com
DTSTART:20260809T134500Z
DTEND:20260809T141500Z
CLASS:PUBLIC
CREATED:20260423T230956
DESCRIPTION:
LAST-MODIFIED:20260423T230956
LOCATION:
SUMMARY:Children and Youth Sunday school
URL;VALUE=URI:https://www.loudonvilleumc.com/events/children-and-youth-sund
 ay-school/2026-08-09
END:VEVENT
END:VCALENDAR
